BEGIN:VCALENDAR
VERSION:2.0
PRODID:-//Littleton Elementary School District #65 - ECPv6.15.17.1//NONSGML v1.0//EN
CALSCALE:GREGORIAN
METHOD:PUBLISH
X-ORIGINAL-URL:https://www.littletonaz.org
X-WR-CALDESC:Events for Littleton Elementary School District #65
REFRESH-INTERVAL;VALUE=DURATION:PT1H
X-Robots-Tag:noindex
X-PUBLISHED-TTL:PT1H
BEGIN:VTIMEZONE
TZID:America/Phoenix
BEGIN:STANDARD
TZOFFSETFROM:-0700
TZOFFSETTO:-0700
TZNAME:MST
DTSTART:20220101T000000
END:STANDARD
END:VTIMEZONE
BEGIN:VEVENT
DTSTART;TZID=America/Phoenix:20230921T180000
DTEND;TZID=America/Phoenix:20230921T190000
DTSTAMP:20260424T041401
CREATED:20230918T203106Z
LAST-MODIFIED:20230918T203106Z
UID:10000142-1695319200-1695322800@www.littletonaz.org
SUMMARY:ABCs of Substance Abuse & Vaping Presentation
DESCRIPTION:
URL:https://www.littletonaz.org/calendar-event/abcs-of-substance-abuse-vaping-presentation
END:VEVENT
END:VCALENDAR