BEGIN:VCALENDAR
VERSION:2.0
PRODID:-//Littleton Elementary School District #65 - ECPv6.15.17.1//NONSGML v1.0//EN
CALSCALE:GREGORIAN
METHOD:PUBLISH
X-WR-CALNAME:Littleton Elementary School District #65
X-ORIGINAL-URL:https://www.littletonaz.org
X-WR-CALDESC:Events for Littleton Elementary School District #65
REFRESH-INTERVAL;VALUE=DURATION:PT1H
X-Robots-Tag:noindex
X-PUBLISHED-TTL:PT1H
BEGIN:VTIMEZONE
TZID:America/Phoenix
BEGIN:STANDARD
TZOFFSETFROM:-0700
TZOFFSETTO:-0700
TZNAME:MST
DTSTART:20230101T000000
END:STANDARD
END:VTIMEZONE
BEGIN:VEVENT
DTSTART;TZID=America/Phoenix:20241029T171500
DTEND;TZID=America/Phoenix:20241029T181500
DTSTAMP:20260424T200940
CREATED:20241023T173145Z
LAST-MODIFIED:20241023T173145Z
UID:10000337-1730222100-1730225700@www.littletonaz.org
SUMMARY:Community Meeting with Ray & Associates
DESCRIPTION:
URL:https://www.littletonaz.org/calendar-event/community-meeting-with-ray-associates
LOCATION:District Office – Governing Board Room
END:VEVENT
BEGIN:VEVENT
DTSTART;TZID=America/Phoenix:20241029T171500
DTEND;TZID=America/Phoenix:20241029T181500
DTSTAMP:20260424T200940
CREATED:20241023T173238Z
LAST-MODIFIED:20241023T173238Z
UID:10000338-1730222100-1730225700@www.littletonaz.org
SUMMARY:Community Meeting with Ray & Associates
DESCRIPTION:
URL:https://www.littletonaz.org/calendar-event/community-meeting-with-ray-associates-2
LOCATION:District Office – Governing Board Room
END:VEVENT
END:VCALENDAR