BEGIN:VCALENDAR
VERSION:2.0
PRODID:-//Littleton Elementary School District #65 - ECPv6.15.17.1//NONSGML v1.0//EN
CALSCALE:GREGORIAN
METHOD:PUBLISH
X-ORIGINAL-URL:https://www.littletonaz.org
X-WR-CALDESC:Events for Littleton Elementary School District #65
REFRESH-INTERVAL;VALUE=DURATION:PT1H
X-Robots-Tag:noindex
X-PUBLISHED-TTL:PT1H
BEGIN:VTIMEZONE
TZID:America/Phoenix
BEGIN:STANDARD
TZOFFSETFROM:-0700
TZOFFSETTO:-0700
TZNAME:MST
DTSTART:20240101T000000
END:STANDARD
END:VTIMEZONE
BEGIN:VEVENT
DTSTART;VALUE=DATE:20250317
DTEND;VALUE=DATE:20250412
DTSTAMP:20260421T015229
CREATED:20250405T200511Z
LAST-MODIFIED:20250405T200511Z
UID:10000740-1742169600-1744415999@www.littletonaz.org
SUMMARY:AzSCI Grades 5\, 8
DESCRIPTION:
URL:https://www.littletonaz.org/calendar-event/azsci-grades-5-8
END:VEVENT
BEGIN:VEVENT
DTSTART;VALUE=DATE:20250331
DTEND;VALUE=DATE:20250426
DTSTAMP:20260421T015229
CREATED:20250405T200638Z
LAST-MODIFIED:20250405T200638Z
UID:10000741-1743379200-1745625599@www.littletonaz.org
SUMMARY:AASA Grades 3–8
DESCRIPTION:
URL:https://www.littletonaz.org/calendar-event/aasa-grades-3-8
END:VEVENT
BEGIN:VEVENT
DTSTART;TZID=America/Phoenix:20250408T180000
DTEND;TZID=America/Phoenix:20250408T180000
DTSTAMP:20260421T015229
CREATED:20240709T161540Z
LAST-MODIFIED:20240709T161540Z
UID:10000316-1744135200-1744135200@www.littletonaz.org
SUMMARY:Governing Board Meeting
DESCRIPTION:
URL:https://www.littletonaz.org/calendar-event/governing-board-meeting-28
LOCATION:District Office – Governing Board Room
END:VEVENT
END:VCALENDAR