BEGIN:VCALENDAR
VERSION:2.0
PRODID:-//Littleton Elementary School District #65 - ECPv6.15.17.1//NONSGML v1.0//EN
CALSCALE:GREGORIAN
METHOD:PUBLISH
X-WR-CALNAME:Littleton Elementary School District #65
X-ORIGINAL-URL:https://www.littletonaz.org
X-WR-CALDESC:Events for Littleton Elementary School District #65
REFRESH-INTERVAL;VALUE=DURATION:PT1H
X-Robots-Tag:noindex
X-PUBLISHED-TTL:PT1H
BEGIN:VTIMEZONE
TZID:America/Phoenix
BEGIN:STANDARD
TZOFFSETFROM:-0700
TZOFFSETTO:-0700
TZNAME:MST
DTSTART:20270101T000000
END:STANDARD
END:VTIMEZONE
BEGIN:VEVENT
DTSTART;VALUE=DATE:20280202
DTEND;VALUE=DATE:20280203
DTSTAMP:20260420T133939
CREATED:20260124T025646Z
LAST-MODIFIED:20260124T025646Z
UID:10000952-1833062400-1833148799@www.littletonaz.org
SUMMARY:Early Release
DESCRIPTION:
URL:https://www.littletonaz.org/calendar-event/early-release-28
END:VEVENT
BEGIN:VEVENT
DTSTART;VALUE=DATE:20280209
DTEND;VALUE=DATE:20280210
DTSTAMP:20260420T133939
CREATED:20260124T025646Z
LAST-MODIFIED:20260124T025646Z
UID:10000953-1833667200-1833753599@www.littletonaz.org
SUMMARY:Early Release
DESCRIPTION:
URL:https://www.littletonaz.org/calendar-event/early-release-29
END:VEVENT
BEGIN:VEVENT
DTSTART;VALUE=DATE:20280216
DTEND;VALUE=DATE:20280217
DTSTAMP:20260420T133939
CREATED:20260124T025647Z
LAST-MODIFIED:20260124T025647Z
UID:10000954-1834272000-1834358399@www.littletonaz.org
SUMMARY:Early Release
DESCRIPTION:
URL:https://www.littletonaz.org/calendar-event/early-release-30
END:VEVENT
BEGIN:VEVENT
DTSTART;VALUE=DATE:20280218
DTEND;VALUE=DATE:20280222
DTSTAMP:20260420T133939
CREATED:20260124T025648Z
LAST-MODIFIED:20260124T025648Z
UID:10000955-1834444800-1834790399@www.littletonaz.org
SUMMARY:President's Day Recess
DESCRIPTION:
URL:https://www.littletonaz.org/calendar-event/presidents-day-recess-3
END:VEVENT
BEGIN:VEVENT
DTSTART;VALUE=DATE:20280223
DTEND;VALUE=DATE:20280224
DTSTAMP:20260420T133939
CREATED:20260124T025648Z
LAST-MODIFIED:20260124T025648Z
UID:10000956-1834876800-1834963199@www.littletonaz.org
SUMMARY:Early Release
DESCRIPTION:
URL:https://www.littletonaz.org/calendar-event/early-release-31
END:VEVENT
END:VCALENDAR