BEGIN:VCALENDAR
VERSION:2.0
PRODID:-//Littleton Elementary School District #65 - ECPv6.15.17.1//NONSGML v1.0//EN
CALSCALE:GREGORIAN
METHOD:PUBLISH
X-WR-CALNAME:Littleton Elementary School District #65
X-ORIGINAL-URL:https://www.littletonaz.org
X-WR-CALDESC:Events for Littleton Elementary School District #65
REFRESH-INTERVAL;VALUE=DURATION:PT1H
X-Robots-Tag:noindex
X-PUBLISHED-TTL:PT1H
BEGIN:VTIMEZONE
TZID:America/Phoenix
BEGIN:STANDARD
TZOFFSETFROM:-0700
TZOFFSETTO:-0700
TZNAME:MST
DTSTART:20270101T000000
END:STANDARD
END:VTIMEZONE
BEGIN:VEVENT
DTSTART;VALUE=DATE:20280301
DTEND;VALUE=DATE:20280304
DTSTAMP:20260423T132645
CREATED:20260124T025847Z
LAST-MODIFIED:20260124T025847Z
UID:10000957-1835481600-1835740799@www.littletonaz.org
SUMMARY:Parent Conferences
DESCRIPTION:
URL:https://www.littletonaz.org/calendar-event/parent-conferences-3
END:VEVENT
BEGIN:VEVENT
DTSTART;VALUE=DATE:20280301
DTEND;VALUE=DATE:20280304
DTSTAMP:20260423T132645
CREATED:20260124T025847Z
LAST-MODIFIED:20260124T025847Z
UID:10000958-1835481600-1835740799@www.littletonaz.org
SUMMARY:Early Release
DESCRIPTION:
URL:https://www.littletonaz.org/calendar-event/early-release-32
END:VEVENT
BEGIN:VEVENT
DTSTART;VALUE=DATE:20280306
DTEND;VALUE=DATE:20280311
DTSTAMP:20260423T132645
CREATED:20260124T025848Z
LAST-MODIFIED:20260124T025848Z
UID:10000959-1835913600-1836345599@www.littletonaz.org
SUMMARY:Spring Break
DESCRIPTION:
URL:https://www.littletonaz.org/calendar-event/spring-break-2
END:VEVENT
BEGIN:VEVENT
DTSTART;VALUE=DATE:20280315
DTEND;VALUE=DATE:20280316
DTSTAMP:20260423T132645
CREATED:20260124T025849Z
LAST-MODIFIED:20260124T025849Z
UID:10000960-1836691200-1836777599@www.littletonaz.org
SUMMARY:Early Release
DESCRIPTION:
URL:https://www.littletonaz.org/calendar-event/early-release-33
END:VEVENT
BEGIN:VEVENT
DTSTART;VALUE=DATE:20280322
DTEND;VALUE=DATE:20280323
DTSTAMP:20260423T132645
CREATED:20260124T025849Z
LAST-MODIFIED:20260124T025849Z
UID:10000961-1837296000-1837382399@www.littletonaz.org
SUMMARY:Early Release
DESCRIPTION:
URL:https://www.littletonaz.org/calendar-event/early-release-34
END:VEVENT
BEGIN:VEVENT
DTSTART;VALUE=DATE:20280329
DTEND;VALUE=DATE:20280330
DTSTAMP:20260423T132645
CREATED:20260124T030048Z
LAST-MODIFIED:20260124T030048Z
UID:10000962-1837900800-1837987199@www.littletonaz.org
SUMMARY:Early Release
DESCRIPTION:
URL:https://www.littletonaz.org/calendar-event/early-release-35
END:VEVENT
END:VCALENDAR